BEGIN:VCALENDAR
VERSION:2.0
PRODID:-//Saltonstall School - ECPv6.15.18//NONSGML v1.0//EN
CALSCALE:GREGORIAN
METHOD:PUBLISH
X-WR-CALNAME:Saltonstall School
X-ORIGINAL-URL:https://spssaltonstall.salemk12.org
X-WR-CALDESC:Events for Saltonstall School
REFRESH-INTERVAL;VALUE=DURATION:PT1H
X-Robots-Tag:noindex
X-PUBLISHED-TTL:PT1H
BEGIN:VTIMEZONE
TZID:America/New_York
BEGIN:DAYLIGHT
TZOFFSETFROM:-0500
TZOFFSETTO:-0400
TZNAME:EDT
DTSTART:20210314T070000
END:DAYLIGHT
BEGIN:STANDARD
TZOFFSETFROM:-0400
TZOFFSETTO:-0500
TZNAME:EST
DTSTART:20211107T060000
END:STANDARD
BEGIN:DAYLIGHT
TZOFFSETFROM:-0500
TZOFFSETTO:-0400
TZNAME:EDT
DTSTART:20220313T070000
END:DAYLIGHT
BEGIN:STANDARD
TZOFFSETFROM:-0400
TZOFFSETTO:-0500
TZNAME:EST
DTSTART:20221106T060000
END:STANDARD
BEGIN:DAYLIGHT
TZOFFSETFROM:-0500
TZOFFSETTO:-0400
TZNAME:EDT
DTSTART:20230312T070000
END:DAYLIGHT
BEGIN:STANDARD
TZOFFSETFROM:-0400
TZOFFSETTO:-0500
TZNAME:EST
DTSTART:20231105T060000
END:STANDARD
END:VTIMEZONE
BEGIN:VEVENT
DTSTART;TZID=America/New_York:20220502T190000
DTEND;TZID=America/New_York:20220502T210000
DTSTAMP:20260424T021133
CREATED:20211214T173424Z
LAST-MODIFIED:20220502T211412Z
UID:1426-1651518000-1651525200@spssaltonstall.salemk12.org
SUMMARY:School Committee Meeting
DESCRIPTION:
URL:https://spssaltonstall.salemk12.org/event/school-committee-meeting-10/
CATEGORIES:District
END:VEVENT
BEGIN:VEVENT
DTSTART;TZID=America/New_York:20220504T180000
DTEND;TZID=America/New_York:20220504T200000
DTSTAMP:20260424T021133
CREATED:20211214T173424Z
LAST-MODIFIED:20220504T211412Z
UID:1427-1651687200-1651694400@spssaltonstall.salemk12.org
SUMMARY:All City Chorus\, Band\, and Orchestra Concert
DESCRIPTION:
URL:https://spssaltonstall.salemk12.org/event/all-city-chorus-band-and-orchestra-concert/
CATEGORIES:District
END:VEVENT
BEGIN:VEVENT
DTSTART;TZID=America/New_York:20220516T190000
DTEND;TZID=America/New_York:20220516T200000
DTSTAMP:20260424T021133
CREATED:20211214T173424Z
LAST-MODIFIED:20220516T212910Z
UID:1430-1652727600-1652731200@spssaltonstall.salemk12.org
SUMMARY:School Committee Meeting
DESCRIPTION:
URL:https://spssaltonstall.salemk12.org/event/school-committee-meeting-11/
CATEGORIES:District
END:VEVENT
BEGIN:VEVENT
DTSTART;TZID=America/New_York:20220516T190000
DTEND;TZID=America/New_York:20220516T200000
DTSTAMP:20260424T021133
CREATED:20211214T173424Z
LAST-MODIFIED:20220516T212910Z
UID:1429-1652727600-1652731200@spssaltonstall.salemk12.org
SUMMARY:Class of 2022 Recital
DESCRIPTION:
URL:https://spssaltonstall.salemk12.org/event/class-of-2022-recital/
LOCATION:Salem High School\, 77 Willson St\, Salem\, MA 01970\, USA
CATEGORIES:District
END:VEVENT
BEGIN:VEVENT
DTSTART;VALUE=DATE:20220525
DTEND;VALUE=DATE:20220526
DTSTAMP:20260424T021133
CREATED:20211223T205900Z
LAST-MODIFIED:20220525T220014Z
UID:1528-1653436800-1653523199@spssaltonstall.salemk12.org
SUMMARY:Early Release Day (NOT Carlton)
DESCRIPTION:
URL:https://spssaltonstall.salemk12.org/event/early-release-day-not-carlton/
CATEGORIES:District
END:VEVENT
BEGIN:VEVENT
DTSTART;TZID=America/New_York:20220525T080000
DTEND;TZID=America/New_York:20220525T113000
DTSTAMP:20260424T021133
CREATED:20211206T191900Z
LAST-MODIFIED:20220523T234412Z
UID:1327-1653465600-1653478200@spssaltonstall.salemk12.org
SUMMARY:Half day 11:30 dismissal
DESCRIPTION:
URL:https://spssaltonstall.salemk12.org/event/half-day-1130-dismissal-4/
CATEGORIES:Saltonstall School
END:VEVENT
BEGIN:VEVENT
DTSTART;TZID=America/New_York:20220525T190000
DTEND;TZID=America/New_York:20220525T203000
DTSTAMP:20260424T021133
CREATED:20211214T173424Z
LAST-MODIFIED:20220525T220014Z
UID:1431-1653505200-1653510600@spssaltonstall.salemk12.org
SUMMARY:SHS Pops Concert
DESCRIPTION:
URL:https://spssaltonstall.salemk12.org/event/shs-pops-concert/
LOCATION:Salem High School\, 77 Willson St\, Salem\, MA 01970\, USA
CATEGORIES:District
END:VEVENT
BEGIN:VEVENT
DTSTART;VALUE=DATE:20220530
DTEND;VALUE=DATE:20220531
DTSTAMP:20260424T021133
CREATED:20211206T191912Z
LAST-MODIFIED:20220529T235815Z
UID:1328-1653868800-1653955199@spssaltonstall.salemk12.org
SUMMARY:No school Memorial Day
DESCRIPTION:
URL:https://spssaltonstall.salemk12.org/event/no-school-memorial-day/
CATEGORIES:Saltonstall School
END:VEVENT
END:VCALENDAR