BEGIN:VCALENDAR
VERSION:2.0
PRODID:-//Saltonstall School - ECPv6.15.18//NONSGML v1.0//EN
CALSCALE:GREGORIAN
METHOD:PUBLISH
X-WR-CALNAME:Saltonstall School
X-ORIGINAL-URL:https://spssaltonstall.salemk12.org
X-WR-CALDESC:Events for Saltonstall School
REFRESH-INTERVAL;VALUE=DURATION:PT1H
X-Robots-Tag:noindex
X-PUBLISHED-TTL:PT1H
BEGIN:VTIMEZONE
TZID:America/New_York
BEGIN:DAYLIGHT
TZOFFSETFROM:-0500
TZOFFSETTO:-0400
TZNAME:EDT
DTSTART:20230312T070000
END:DAYLIGHT
BEGIN:STANDARD
TZOFFSETFROM:-0400
TZOFFSETTO:-0500
TZNAME:EST
DTSTART:20231105T060000
END:STANDARD
BEGIN:DAYLIGHT
TZOFFSETFROM:-0500
TZOFFSETTO:-0400
TZNAME:EDT
DTSTART:20240310T070000
END:DAYLIGHT
BEGIN:STANDARD
TZOFFSETFROM:-0400
TZOFFSETTO:-0500
TZNAME:EST
DTSTART:20241103T060000
END:STANDARD
BEGIN:DAYLIGHT
TZOFFSETFROM:-0500
TZOFFSETTO:-0400
TZNAME:EDT
DTSTART:20250309T070000
END:DAYLIGHT
BEGIN:STANDARD
TZOFFSETFROM:-0400
TZOFFSETTO:-0500
TZNAME:EST
DTSTART:20251102T060000
END:STANDARD
BEGIN:DAYLIGHT
TZOFFSETFROM:-0500
TZOFFSETTO:-0400
TZNAME:EDT
DTSTART:20260308T070000
END:DAYLIGHT
BEGIN:STANDARD
TZOFFSETFROM:-0400
TZOFFSETTO:-0500
TZNAME:EST
DTSTART:20261101T060000
END:STANDARD
END:VTIMEZONE
BEGIN:VEVENT
DTSTART;TZID=America/New_York:20251124T180000
DTEND;TZID=America/New_York:20251124T200000
DTSTAMP:20260421T012625
CREATED:20251120T161257Z
LAST-MODIFIED:20251120T161637Z
UID:7232-1764007200-1764014400@spssaltonstall.salemk12.org
SUMMARY:Elementary School Reconfiguration Forum (en Español)
DESCRIPTION:Elementary School Reconfiguration Forum (en Español)\n6-8 p.m.\nSaltonstall School Auditorium
URL:https://spssaltonstall.salemk12.org/event/elementary-school-reconfiguration-forum-en-espanol/
LOCATION:Saltonstall Auditorium Zone 1\, Saltonstall Auditorium Zone 2\, Saltonstall Auditorium Zone 3\, Saltonstall Auditorium Zone 4
END:VEVENT
BEGIN:VEVENT
DTSTART;TZID=America/New_York:20251119T180000
DTEND;TZID=America/New_York:20251119T193000
DTSTAMP:20260421T012625
CREATED:20250930T152209Z
LAST-MODIFIED:20250930T152209Z
UID:7102-1763575200-1763580600@spssaltonstall.salemk12.org
SUMMARY:English Learner Parent Advisory Council (ELPAC) Family Night
DESCRIPTION:
URL:https://spssaltonstall.salemk12.org/event/english-learner-parent-advisory-council-elpac-family-night/
LOCATION:Saltonstall School\, 211 Lafayette St\, Salem\, MA 01970\, USA
CATEGORIES:Saltonstall School
END:VEVENT
BEGIN:VEVENT
DTSTART;TZID=America/New_York:20251022T180000
DTEND;TZID=America/New_York:20251022T193000
DTSTAMP:20260421T012625
CREATED:20250930T151955Z
LAST-MODIFIED:20250930T151955Z
UID:7098-1761156000-1761161400@spssaltonstall.salemk12.org
SUMMARY:English Learner Parent Advisory Council (ELPAC) Meeting
DESCRIPTION:
URL:https://spssaltonstall.salemk12.org/event/english-learner-parent-advisory-council-elpac-meeting/
LOCATION:Online/Virtual
CATEGORIES:Saltonstall School
END:VEVENT
BEGIN:VEVENT
DTSTART;TZID=America/New_York:20250915T173000
DTEND;TZID=America/New_York:20250915T193000
DTSTAMP:20260421T012625
CREATED:20250723T131127Z
LAST-MODIFIED:20250822T134412Z
UID:6899-1757957400-1757964600@spssaltonstall.salemk12.org
SUMMARY:Saltonstall Open House
DESCRIPTION:
URL:https://spssaltonstall.salemk12.org/event/saltonstall-open-house-2/
LOCATION:Saltonstall School\, 211 Lafayette St\, Salem\, MA 01970\, USA
CATEGORIES:Saltonstall School
END:VEVENT
BEGIN:VEVENT
DTSTART;TZID=America/New_York:20250909T193000
DTEND;TZID=America/New_York:20250909T210000
DTSTAMP:20260421T012625
CREATED:20250811T183616Z
LAST-MODIFIED:20250811T184331Z
UID:6981-1757446200-1757451600@spssaltonstall.salemk12.org
SUMMARY:Saltonstall PTO Meeting
DESCRIPTION:
URL:https://spssaltonstall.salemk12.org/event/saltonstall-pto-meeting/
CATEGORIES:Saltonstall School
END:VEVENT
BEGIN:VEVENT
DTSTART;TZID=America/New_York:20250828T170000
DTEND;TZID=America/New_York:20250828T180000
DTSTAMP:20260421T012625
CREATED:20250822T090041Z
LAST-MODIFIED:20250822T180020Z
UID:6916-1756400400-1756404000@spssaltonstall.salemk12.org
SUMMARY:Saltonstall Popsicle Meet & Greet
DESCRIPTION:
URL:https://spssaltonstall.salemk12.org/event/saltonstall-popsicle-night/
LOCATION:Saltonstall School\, 211 Lafayette St\, Salem\, MA 01970\, USA
CATEGORIES:Saltonstall School
END:VEVENT
BEGIN:VEVENT
DTSTART;VALUE=DATE:20250620
DTEND;VALUE=DATE:20250621
DTSTAMP:20260421T012625
CREATED:20241102T005855Z
LAST-MODIFIED:20250602T180729Z
UID:5497-1750377600-1750463999@spssaltonstall.salemk12.org
SUMMARY:Last Day- 1st to 8th
DESCRIPTION:
URL:https://spssaltonstall.salemk12.org/event/last-day-1st-to-8th/
CATEGORIES:Saltonstall School
END:VEVENT
BEGIN:VEVENT
DTSTART;VALUE=DATE:20250619
DTEND;VALUE=DATE:20250620
DTSTAMP:20260421T012625
CREATED:20241102T005855Z
LAST-MODIFIED:20250619T202822Z
UID:5498-1750291200-1750377599@spssaltonstall.salemk12.org
SUMMARY:Juneteenth
DESCRIPTION:
URL:https://spssaltonstall.salemk12.org/event/juneteenth/
CATEGORIES:Saltonstall School
END:VEVENT
BEGIN:VEVENT
DTSTART;VALUE=DATE:20250613
DTEND;VALUE=DATE:20250614
DTSTAMP:20260421T012625
CREATED:20241102T005855Z
LAST-MODIFIED:20250613T161326Z
UID:5496-1749772800-1749859199@spssaltonstall.salemk12.org
SUMMARY:Kindergarten's Last Day
DESCRIPTION:
URL:https://spssaltonstall.salemk12.org/event/kindergartens-last-day/
CATEGORIES:Saltonstall School
END:VEVENT
BEGIN:VEVENT
DTSTART;VALUE=DATE:20250526
DTEND;VALUE=DATE:20250527
DTSTAMP:20260421T012625
CREATED:20241102T005839Z
LAST-MODIFIED:20250526T161420Z
UID:5495-1748217600-1748303999@spssaltonstall.salemk12.org
SUMMARY:No School- Memorial Day
DESCRIPTION:
URL:https://spssaltonstall.salemk12.org/event/no-school-memorial-day-3/
CATEGORIES:Saltonstall School
END:VEVENT
BEGIN:VEVENT
DTSTART;TZID=America/New_York:20250522T173000
DTEND;TZID=America/New_York:20250522T193000
DTSTAMP:20260421T012625
CREATED:20250424T130807Z
LAST-MODIFIED:20250424T130807Z
UID:6682-1747935000-1747942200@spssaltonstall.salemk12.org
SUMMARY:Student Voice Summit/See Me Student Art Installation
DESCRIPTION:
URL:https://spssaltonstall.salemk12.org/event/student-voice-summit-see-me-student-art-installation/
LOCATION:Peabody Essex Museum\, 161 Essex Street\, Salem\, MA\, 01970\, United States
CATEGORIES:Saltonstall School
END:VEVENT
BEGIN:VEVENT
DTSTART;TZID=America/New_York:20250521T082000
DTEND;TZID=America/New_York:20250521T114500
DTSTAMP:20260421T012625
CREATED:20241102T005839Z
LAST-MODIFIED:20250519T234418Z
UID:5494-1747815600-1747827900@spssaltonstall.salemk12.org
SUMMARY:Half Day- Release at 11:45AM
DESCRIPTION:
URL:https://spssaltonstall.salemk12.org/event/half-day-release-at-1145am/
CATEGORIES:Saltonstall School
END:VEVENT
BEGIN:VEVENT
DTSTART;VALUE=DATE:20250421
DTEND;VALUE=DATE:20250426
DTSTAMP:20260421T012625
CREATED:20241102T005839Z
LAST-MODIFIED:20250425T231415Z
UID:5493-1745193600-1745625599@spssaltonstall.salemk12.org
SUMMARY:April Break
DESCRIPTION:
URL:https://spssaltonstall.salemk12.org/event/april-break-2/
CATEGORIES:Saltonstall School
END:VEVENT
BEGIN:VEVENT
DTSTART;VALUE=DATE:20250418
DTEND;VALUE=DATE:20250419
DTSTAMP:20260421T012625
CREATED:20241102T005839Z
LAST-MODIFIED:20250418T224424Z
UID:5492-1744934400-1745020799@spssaltonstall.salemk12.org
SUMMARY:No School- Good Friday
DESCRIPTION:
URL:https://spssaltonstall.salemk12.org/event/no-school-good-friday/
CATEGORIES:Saltonstall School
END:VEVENT
BEGIN:VEVENT
DTSTART;TZID=America/New_York:20250319T082000
DTEND;TZID=America/New_York:20250319T114500
DTSTAMP:20260421T012625
CREATED:20241102T005839Z
LAST-MODIFIED:20250318T211416Z
UID:5491-1742372400-1742384700@spssaltonstall.salemk12.org
SUMMARY:Half Day- Release at 11:45 AM
DESCRIPTION:
URL:https://spssaltonstall.salemk12.org/event/half-day-release-at-1145-am-3/
CATEGORIES:Saltonstall School
END:VEVENT
BEGIN:VEVENT
DTSTART;TZID=America/New_York:20250305T082000
DTEND;TZID=America/New_York:20250305T114500
DTSTAMP:20260421T012625
CREATED:20241102T005839Z
LAST-MODIFIED:20250304T205822Z
UID:5490-1741162800-1741175100@spssaltonstall.salemk12.org
SUMMARY:Half Day- Release at 11:45 AM
DESCRIPTION:
URL:https://spssaltonstall.salemk12.org/event/half-day-release-at-1145-am-2/
CATEGORIES:Saltonstall School
END:VEVENT
BEGIN:VEVENT
DTSTART;VALUE=DATE:20250217
DTEND;VALUE=DATE:20250222
DTSTAMP:20260421T012625
CREATED:20241102T005839Z
LAST-MODIFIED:20250221T204321Z
UID:5489-1739750400-1740182399@spssaltonstall.salemk12.org
SUMMARY:February Break
DESCRIPTION:
URL:https://spssaltonstall.salemk12.org/event/february-break-3/
CATEGORIES:Saltonstall School
END:VEVENT
BEGIN:VEVENT
DTSTART;TZID=America/New_York:20250129T082000
DTEND;TZID=America/New_York:20250129T114500
DTSTAMP:20260421T012625
CREATED:20241102T005838Z
LAST-MODIFIED:20250128T194320Z
UID:5488-1738138800-1738151100@spssaltonstall.salemk12.org
SUMMARY:Half Day- Release at 11:45 AM
DESCRIPTION:
URL:https://spssaltonstall.salemk12.org/event/half-day-release-at-1145-am/
CATEGORIES:Saltonstall School
END:VEVENT
BEGIN:VEVENT
DTSTART;VALUE=DATE:20250120
DTEND;VALUE=DATE:20250121
DTSTAMP:20260421T012625
CREATED:20241102T005838Z
LAST-MODIFIED:20250120T185828Z
UID:5487-1737331200-1737417599@spssaltonstall.salemk12.org
SUMMARY:Martin Luther King\, Jr. - No School
DESCRIPTION:
URL:https://spssaltonstall.salemk12.org/event/martin-luther-king-jr-no-school/
CATEGORIES:Saltonstall School
END:VEVENT
BEGIN:VEVENT
DTSTART;VALUE=DATE:20241223
DTEND;VALUE=DATE:20250102
DTSTAMP:20260421T012625
CREATED:20241102T005838Z
LAST-MODIFIED:20250101T184415Z
UID:5486-1734912000-1735775999@spssaltonstall.salemk12.org
SUMMARY:Winter Break
DESCRIPTION:
URL:https://spssaltonstall.salemk12.org/event/winter-break-2/
CATEGORIES:Saltonstall School
END:VEVENT
BEGIN:VEVENT
DTSTART;TZID=America/New_York:20241204T173000
DTEND;TZID=America/New_York:20241204T193000
DTSTAMP:20260421T012625
CREATED:20241102T005822Z
LAST-MODIFIED:20241204T180027Z
UID:5485-1733333400-1733340600@spssaltonstall.salemk12.org
SUMMARY:Parents/Guardians-Teachers Conferences
DESCRIPTION:
URL:https://spssaltonstall.salemk12.org/event/parents-guardians-teachers-conferences-2/
CATEGORIES:Saltonstall School
END:VEVENT
BEGIN:VEVENT
DTSTART;TZID=America/New_York:20241204T123000
DTEND;TZID=America/New_York:20241204T153000
DTSTAMP:20260421T012625
CREATED:20241102T005822Z
LAST-MODIFIED:20241204T180027Z
UID:5484-1733315400-1733326200@spssaltonstall.salemk12.org
SUMMARY:Parents/Guardians-Teachers Conferences
DESCRIPTION:
URL:https://spssaltonstall.salemk12.org/event/parents-guardians-teachers-conferences/
CATEGORIES:Saltonstall School
END:VEVENT
BEGIN:VEVENT
DTSTART;TZID=America/New_York:20241203T183000
DTEND;TZID=America/New_York:20241203T200000
DTSTAMP:20260421T012625
CREATED:20241118T164401Z
LAST-MODIFIED:20241203T175820Z
UID:6209-1733250600-1733256000@spssaltonstall.salemk12.org
SUMMARY:Community Meeting
DESCRIPTION:Salem High School: Crafting Tomorrow’s Legacy\nJoin us for upcoming community meetings to learn about the Salem High School building project
URL:https://spssaltonstall.salemk12.org/event/community-meeting/
LOCATION:Saltonstall Auditorium Zone 2\, Saltonstall Auditorium Zone 3\, Saltonstall Auditorium Zone 1\, Saltonstall Auditorium Zone 4
CATEGORIES:Saltonstall School
END:VEVENT
BEGIN:VEVENT
DTSTART;VALUE=DATE:20241128
DTEND;VALUE=DATE:20241130
DTSTAMP:20260421T012625
CREATED:20241102T005822Z
LAST-MODIFIED:20241129T175819Z
UID:5483-1732752000-1732924799@spssaltonstall.salemk12.org
SUMMARY:No School
DESCRIPTION:
URL:https://spssaltonstall.salemk12.org/event/no-school-4/
CATEGORIES:Saltonstall School
END:VEVENT
BEGIN:VEVENT
DTSTART;TZID=America/New_York:20241127T082000
DTEND;TZID=America/New_York:20241127T114500
DTSTAMP:20260421T012625
CREATED:20241102T005821Z
LAST-MODIFIED:20241126T175817Z
UID:5481-1732695600-1732707900@spssaltonstall.salemk12.org
SUMMARY:Stew Day-Half Day
DESCRIPTION:
URL:https://spssaltonstall.salemk12.org/event/stew-day-half-day/
CATEGORIES:Saltonstall School
END:VEVENT
BEGIN:VEVENT
DTSTART;VALUE=DATE:20241127
DTEND;VALUE=DATE:20241128
DTSTAMP:20260421T012625
CREATED:20241102T005822Z
LAST-MODIFIED:20241127T175927Z
UID:5482-1732665600-1732751999@spssaltonstall.salemk12.org
SUMMARY:Report Cards Posted
DESCRIPTION:
URL:https://spssaltonstall.salemk12.org/event/report-cards-posted/
CATEGORIES:Saltonstall School
END:VEVENT
BEGIN:VEVENT
DTSTART;TZID=America/New_York:20241126T170000
DTEND;TZID=America/New_York:20241126T190000
DTSTAMP:20260421T012625
CREATED:20241118T164401Z
LAST-MODIFIED:20241126T175817Z
UID:6207-1732640400-1732647600@spssaltonstall.salemk12.org
SUMMARY:Parents Cafe
DESCRIPTION:Join the entire Salem Public Schools team of Family Engagement Facilitators to review your student’s report card together!
URL:https://spssaltonstall.salemk12.org/event/parents-cafe/
LOCATION:Salem Community Life Center\, 401 Bridge St\, Salem\, MA\, United States
CATEGORIES:Saltonstall School
GEO:42.519346;-70.908861
X-APPLE-STRUCTURED-LOCATION;VALUE=URI;X-ADDRESS=Salem Community Life Center 401 Bridge St Salem MA United States;X-APPLE-RADIUS=500;X-TITLE=401 Bridge St:geo:-70.908861,42.519346
END:VEVENT
BEGIN:VEVENT
DTSTART;TZID=America/New_York:20241121T170000
DTEND;TZID=America/New_York:20241121T190000
DTSTAMP:20260421T012625
CREATED:20241118T164401Z
LAST-MODIFIED:20241121T175819Z
UID:6205-1732208400-1732215600@spssaltonstall.salemk12.org
SUMMARY:District Attendance Phone Banking
DESCRIPTION:
URL:https://spssaltonstall.salemk12.org/event/district-attendance-phone-banking/
CATEGORIES:Saltonstall School
END:VEVENT
BEGIN:VEVENT
DTSTART;TZID=America/New_York:20241118T183000
DTEND;TZID=America/New_York:20241118T203000
DTSTAMP:20260421T012625
CREATED:20241102T005821Z
LAST-MODIFIED:20241118T180029Z
UID:5480-1731954600-1731961800@spssaltonstall.salemk12.org
SUMMARY:ML Family Night
DESCRIPTION:
URL:https://spssaltonstall.salemk12.org/event/ml-family-night/
CATEGORIES:Saltonstall School
END:VEVENT
BEGIN:VEVENT
DTSTART;TZID=America/New_York:20241114T082000
DTEND;TZID=America/New_York:20241114T152000
DTSTAMP:20260421T012625
CREATED:20241102T005821Z
LAST-MODIFIED:20241102T031318Z
UID:5479-1731572400-1731597600@spssaltonstall.salemk12.org
SUMMARY:Polished Dental
DESCRIPTION:
URL:https://spssaltonstall.salemk12.org/event/polished-dental/
CATEGORIES:Saltonstall School
END:VEVENT
END:VCALENDAR