BEGIN:VCALENDAR
VERSION:2.0
PRODID:-//Saltonstall School - ECPv6.15.18//NONSGML v1.0//EN
CALSCALE:GREGORIAN
METHOD:PUBLISH
X-WR-CALNAME:Saltonstall School
X-ORIGINAL-URL:https://spssaltonstall.salemk12.org
X-WR-CALDESC:Events for Saltonstall School
REFRESH-INTERVAL;VALUE=DURATION:PT1H
X-Robots-Tag:noindex
X-PUBLISHED-TTL:PT1H
BEGIN:VTIMEZONE
TZID:America/New_York
BEGIN:DAYLIGHT
TZOFFSETFROM:-0500
TZOFFSETTO:-0400
TZNAME:EDT
DTSTART:20210314T070000
END:DAYLIGHT
BEGIN:STANDARD
TZOFFSETFROM:-0400
TZOFFSETTO:-0500
TZNAME:EST
DTSTART:20211107T060000
END:STANDARD
BEGIN:DAYLIGHT
TZOFFSETFROM:-0500
TZOFFSETTO:-0400
TZNAME:EDT
DTSTART:20220313T070000
END:DAYLIGHT
BEGIN:STANDARD
TZOFFSETFROM:-0400
TZOFFSETTO:-0500
TZNAME:EST
DTSTART:20221106T060000
END:STANDARD
BEGIN:DAYLIGHT
TZOFFSETFROM:-0500
TZOFFSETTO:-0400
TZNAME:EDT
DTSTART:20230312T070000
END:DAYLIGHT
BEGIN:STANDARD
TZOFFSETFROM:-0400
TZOFFSETTO:-0500
TZNAME:EST
DTSTART:20231105T060000
END:STANDARD
BEGIN:DAYLIGHT
TZOFFSETFROM:-0500
TZOFFSETTO:-0400
TZNAME:EDT
DTSTART:20240310T070000
END:DAYLIGHT
BEGIN:STANDARD
TZOFFSETFROM:-0400
TZOFFSETTO:-0500
TZNAME:EST
DTSTART:20241103T060000
END:STANDARD
END:VTIMEZONE
BEGIN:VEVENT
DTSTART;TZID=America/New_York:20230314T190000
DTEND;TZID=America/New_York:20230314T203000
DTSTAMP:20260422T185147
CREATED:20220929T230051Z
LAST-MODIFIED:20230312T224411Z
UID:2482-1678820400-1678825800@spssaltonstall.salemk12.org
SUMMARY:Collins Middle School Spring Concert
DESCRIPTION:
URL:https://spssaltonstall.salemk12.org/event/collins-middle-school-spring-concert/
LOCATION:Collins Middle School\, 29 Highland Ave\, Salem\, MA 01970\, USA
CATEGORIES:District
END:VEVENT
BEGIN:VEVENT
DTSTART;VALUE=DATE:20230314
DTEND;VALUE=DATE:20230315
DTSTAMP:20260422T185147
CREATED:20230103T171419Z
LAST-MODIFIED:20230314T234412Z
UID:2885-1678752000-1678838399@spssaltonstall.salemk12.org
SUMMARY:8th Graders Trip EMK Institute on the Senate
DESCRIPTION:
URL:https://spssaltonstall.salemk12.org/event/8th-graders-trip-emk-institute-on-the-senate/
CATEGORIES:Saltonstall School
END:VEVENT
BEGIN:VEVENT
DTSTART;TZID=America/New_York:20230309T190000
DTEND;TZID=America/New_York:20230309T203000
DTSTAMP:20260422T185147
CREATED:20220929T230039Z
LAST-MODIFIED:20230309T224415Z
UID:2481-1678388400-1678393800@spssaltonstall.salemk12.org
SUMMARY:SHS Spring Concert
DESCRIPTION:
URL:https://spssaltonstall.salemk12.org/event/shs-spring-concert/
LOCATION:Salem High School\, 77 Willson St\, Salem\, MA 01970\, USA
CATEGORIES:District
END:VEVENT
BEGIN:VEVENT
DTSTART;VALUE=DATE:20230308
DTEND;VALUE=DATE:20230309
DTSTAMP:20260422T185147
CREATED:20220825T221425Z
LAST-MODIFIED:20230307T214345Z
UID:2312-1678233600-1678319999@spssaltonstall.salemk12.org
SUMMARY:Early Release PD Day
DESCRIPTION:
URL:https://spssaltonstall.salemk12.org/event/early-release-pd-day-4/
CATEGORIES:District
END:VEVENT
BEGIN:VEVENT
DTSTART;VALUE=DATE:20230220
DTEND;VALUE=DATE:20230225
DTSTAMP:20260422T185147
CREATED:20220825T221425Z
LAST-MODIFIED:20230224T214417Z
UID:2311-1676851200-1677283199@spssaltonstall.salemk12.org
SUMMARY:FEBRUARY BREAK
DESCRIPTION:
URL:https://spssaltonstall.salemk12.org/event/february-break-2/
CATEGORIES:District
END:VEVENT
BEGIN:VEVENT
DTSTART;TZID=America/New_York:20230215T190000
DTEND;TZID=America/New_York:20230215T203000
DTSTAMP:20260422T185147
CREATED:20220929T230039Z
LAST-MODIFIED:20230215T213015Z
UID:2480-1676487600-1676493000@spssaltonstall.salemk12.org
SUMMARY:All-City 4th Grade Instrumental Music Concert
DESCRIPTION:
URL:https://spssaltonstall.salemk12.org/event/all-city-4th-grade-instrumental-music-concert/
LOCATION:Salem High School\, 77 Willson St\, Salem\, MA 01970\, USA
CATEGORIES:District
END:VEVENT
BEGIN:VEVENT
DTSTART;VALUE=DATE:20230210
DTEND;VALUE=DATE:20230211
DTSTAMP:20260422T185147
CREATED:20221219T164412Z
LAST-MODIFIED:20230210T194412Z
UID:2786-1675987200-1676073599@spssaltonstall.salemk12.org
SUMMARY:k-4 Valentines Dance
DESCRIPTION:
URL:https://spssaltonstall.salemk12.org/event/k-4-valentines-dance/
CATEGORIES:Saltonstall School
END:VEVENT
BEGIN:VEVENT
DTSTART;TZID=America/New_York:20230131T190000
DTEND;TZID=America/New_York:20230131T203000
DTSTAMP:20260422T185147
CREATED:20220929T230039Z
LAST-MODIFIED:20230131T234353Z
UID:2479-1675191600-1675197000@spssaltonstall.salemk12.org
SUMMARY:Collins Middle School Solo and Small Ensemble Concert
DESCRIPTION:
URL:https://spssaltonstall.salemk12.org/event/collins-middle-school-solo-and-small-ensemble-concert/
LOCATION:Collins Middle School\, 29 Highland Ave\, Salem\, MA 01970\, USA
CATEGORIES:District
END:VEVENT
BEGIN:VEVENT
DTSTART;TZID=America/New_York:20230127T193000
DTEND;TZID=America/New_York:20230127T210000
DTSTAMP:20260422T185147
CREATED:20220929T230039Z
LAST-MODIFIED:20230127T233014Z
UID:2477-1674847800-1674853200@spssaltonstall.salemk12.org
SUMMARY:Winter Percussion & Colorguard Friends & Family Night
DESCRIPTION:
URL:https://spssaltonstall.salemk12.org/event/winter-percussion-colorguard-friends-family-night/
LOCATION:Salem High School\, 77 Willson St\, Salem\, MA 01970\, USA
CATEGORIES:District
END:VEVENT
BEGIN:VEVENT
DTSTART;VALUE=DATE:20230125
DTEND;VALUE=DATE:20230126
DTSTAMP:20260422T185147
CREATED:20220825T221425Z
LAST-MODIFIED:20230125T233014Z
UID:2310-1674604800-1674691199@spssaltonstall.salemk12.org
SUMMARY:Early Release PD Day
DESCRIPTION:
URL:https://spssaltonstall.salemk12.org/event/early-release-pd-day-3/
CATEGORIES:District
END:VEVENT
BEGIN:VEVENT
DTSTART;VALUE=DATE:20230116
DTEND;VALUE=DATE:20230117
DTSTAMP:20260422T185147
CREATED:20220825T221425Z
LAST-MODIFIED:20230116T224415Z
UID:2309-1673827200-1673913599@spssaltonstall.salemk12.org
SUMMARY:Martin Luther King Day (no school)
DESCRIPTION:
URL:https://spssaltonstall.salemk12.org/event/martin-luther-king-day-no-school/
LOCATION:United States
CATEGORIES:District
END:VEVENT
BEGIN:VEVENT
DTSTART;VALUE=DATE:20230113
DTEND;VALUE=DATE:20230114
DTSTAMP:20260422T185147
CREATED:20221219T164412Z
LAST-MODIFIED:20230113T180016Z
UID:2785-1673568000-1673654399@spssaltonstall.salemk12.org
SUMMARY:Movie Night
DESCRIPTION:
URL:https://spssaltonstall.salemk12.org/event/movie-night/
CATEGORIES:Saltonstall School
END:VEVENT
BEGIN:VEVENT
DTSTART;VALUE=DATE:20221226
DTEND;VALUE=DATE:20221227
DTSTAMP:20260422T185147
CREATED:20220825T221425Z
LAST-MODIFIED:20221226T220013Z
UID:2307-1672012800-1672099199@spssaltonstall.salemk12.org
SUMMARY:Christmas
DESCRIPTION:
URL:https://spssaltonstall.salemk12.org/event/christmas/
LOCATION:United States
CATEGORIES:District
END:VEVENT
BEGIN:VEVENT
DTSTART;VALUE=DATE:20221223
DTEND;VALUE=DATE:20221224
DTSTAMP:20260422T185147
CREATED:20221219T164412Z
LAST-MODIFIED:20221223T170014Z
UID:2781-1671753600-1671839999@spssaltonstall.salemk12.org
SUMMARY:Spirit Week-Salts Pride Wear
DESCRIPTION:
URL:https://spssaltonstall.salemk12.org/event/spirit-week-salts-pride-wear/
CATEGORIES:Saltonstall School
END:VEVENT
BEGIN:VEVENT
DTSTART;VALUE=DATE:20221222
DTEND;VALUE=DATE:20221223
DTSTAMP:20260422T185147
CREATED:20221219T164412Z
LAST-MODIFIED:20221222T165852Z
UID:2782-1671667200-1671753599@spssaltonstall.salemk12.org
SUMMARY:Spirit Week-Holiday Sweater Day
DESCRIPTION:
URL:https://spssaltonstall.salemk12.org/event/spirit-week-holiday-sweater-day/
CATEGORIES:Saltonstall School
END:VEVENT
BEGIN:VEVENT
DTSTART;VALUE=DATE:20221221
DTEND;VALUE=DATE:20221222
DTSTAMP:20260422T185147
CREATED:20221219T164412Z
LAST-MODIFIED:20221221T170013Z
UID:2783-1671580800-1671667199@spssaltonstall.salemk12.org
SUMMARY:Spirit Week-Holiday Gear
DESCRIPTION:
URL:https://spssaltonstall.salemk12.org/event/spirit-week-holiday-gear/
CATEGORIES:Saltonstall School
END:VEVENT
BEGIN:VEVENT
DTSTART;VALUE=DATE:20221220
DTEND;VALUE=DATE:20221221
DTSTAMP:20260422T185147
CREATED:20221219T164412Z
LAST-MODIFIED:20221220T165813Z
UID:2784-1671494400-1671580799@spssaltonstall.salemk12.org
SUMMARY:Spirit Week-Winter White
DESCRIPTION:
URL:https://spssaltonstall.salemk12.org/event/spirit-week-winter-white/
CATEGORIES:Saltonstall School
END:VEVENT
BEGIN:VEVENT
DTSTART;TZID=America/New_York:20221219T190000
DTEND;TZID=America/New_York:20221219T203000
DTSTAMP:20260422T185147
CREATED:20220929T230027Z
LAST-MODIFIED:20221219T213012Z
UID:2476-1671476400-1671481800@spssaltonstall.salemk12.org
SUMMARY:Salem Community Band Winter Concert
DESCRIPTION:
URL:https://spssaltonstall.salemk12.org/event/salem-community-band-winter-concert-2/
LOCATION:Salem High School\, 77 Willson St\, Salem\, MA 01970\, USA
CATEGORIES:District
END:VEVENT
BEGIN:VEVENT
DTSTART;VALUE=DATE:20221219
DTEND;VALUE=DATE:20221220
DTSTAMP:20260422T185147
CREATED:20221219T164412Z
LAST-MODIFIED:20221219T164412Z
UID:2780-1671408000-1671494399@spssaltonstall.salemk12.org
SUMMARY:Spirit Week-Cozy Pj's
DESCRIPTION:
URL:https://spssaltonstall.salemk12.org/event/spirit-week-cozy-pjs/
CATEGORIES:Saltonstall School
END:VEVENT
BEGIN:VEVENT
DTSTART;VALUE=DATE:20221219
DTEND;VALUE=DATE:20221220
DTSTAMP:20260422T185147
CREATED:20220825T221425Z
LAST-MODIFIED:20221219T213012Z
UID:2305-1671408000-1671494399@spssaltonstall.salemk12.org
SUMMARY:Hanukkah
DESCRIPTION:
URL:https://spssaltonstall.salemk12.org/event/hanukkah/
LOCATION:Jewish Religious Holidays
CATEGORIES:District
END:VEVENT
BEGIN:VEVENT
DTSTART;TZID=America/New_York:20221215T190000
DTEND;TZID=America/New_York:20221215T203000
DTSTAMP:20260422T185147
CREATED:20220929T230027Z
LAST-MODIFIED:20221215T213012Z
UID:2475-1671130800-1671136200@spssaltonstall.salemk12.org
SUMMARY:All-City Fifth Grade Instrumental Music Concert
DESCRIPTION:
URL:https://spssaltonstall.salemk12.org/event/all-city-fifth-grade-instrumental-music-concert/
LOCATION:Salem High School\, 77 Willson St\, Salem\, MA 01970\, USA
CATEGORIES:District
END:VEVENT
BEGIN:VEVENT
DTSTART;TZID=America/New_York:20221214T190000
DTEND;TZID=America/New_York:20221214T203000
DTSTAMP:20260422T185147
CREATED:20220929T230027Z
LAST-MODIFIED:20221210T211413Z
UID:2474-1671044400-1671049800@spssaltonstall.salemk12.org
SUMMARY:SHS Winter Concert
DESCRIPTION:
URL:https://spssaltonstall.salemk12.org/event/shs-winter-concert-2/
LOCATION:Salem High School\, 77 Willson St\, Salem\, MA 01970\, USA
CATEGORIES:District
END:VEVENT
BEGIN:VEVENT
DTSTART;TZID=America/New_York:20221213T190000
DTEND;TZID=America/New_York:20221213T200000
DTSTAMP:20260422T185147
CREATED:20221117T233011Z
LAST-MODIFIED:20221210T163011Z
UID:2699-1670958000-1670961600@spssaltonstall.salemk12.org
SUMMARY:Saltonstall Band Family Concert
DESCRIPTION:
URL:https://spssaltonstall.salemk12.org/event/saltonstall-band-family-concert/
LOCATION:Saltonstall Auditorium Zone 1\, Saltonstall Auditorium Zone 2\, Saltonstall Auditorium Zone 3\, Saltonstall Auditorium Zone 4
CATEGORIES:Saltonstall School
END:VEVENT
BEGIN:VEVENT
DTSTART;TZID=America/New_York:20221210T100000
DTEND;TZID=America/New_York:20221210T150000
DTSTAMP:20260422T185147
CREATED:20220929T230027Z
LAST-MODIFIED:20221209T205937Z
UID:2473-1670666400-1670684400@spssaltonstall.salemk12.org
SUMMARY:Music Boosters CRAFTS FAIR
DESCRIPTION:
URL:https://spssaltonstall.salemk12.org/event/music-boosters-crafts-fair/
LOCATION:Salem High School\, 77 Willson St\, Salem\, MA 01970\, USA
CATEGORIES:District
END:VEVENT
BEGIN:VEVENT
DTSTART;TZID=America/New_York:20221208T190000
DTEND;TZID=America/New_York:20221208T203000
DTSTAMP:20260422T185147
CREATED:20220929T230027Z
LAST-MODIFIED:20221208T205816Z
UID:2472-1670526000-1670531400@spssaltonstall.salemk12.org
SUMMARY:Collins Middle School Winter Concert
DESCRIPTION:
URL:https://spssaltonstall.salemk12.org/event/collins-middle-school-winter-concert/
LOCATION:Collins Middle School\, 29 Highland Ave\, Salem\, MA 01970\, USA
CATEGORIES:District
END:VEVENT
BEGIN:VEVENT
DTSTART;VALUE=DATE:20221207
DTEND;VALUE=DATE:20221208
DTSTAMP:20260422T185147
CREATED:20220825T221425Z
LAST-MODIFIED:20221206T234414Z
UID:2303-1670371200-1670457599@spssaltonstall.salemk12.org
SUMMARY:Early Release PD Day
DESCRIPTION:
URL:https://spssaltonstall.salemk12.org/event/early-release-pd-day-2/
CATEGORIES:District
END:VEVENT
BEGIN:VEVENT
DTSTART;TZID=America/New_York:20221130T190000
DTEND;TZID=America/New_York:20221130T203000
DTSTAMP:20260422T185147
CREATED:20220929T230026Z
LAST-MODIFIED:20221130T231415Z
UID:2470-1669834800-1669840200@spssaltonstall.salemk12.org
SUMMARY:Tri-M Honor Music Society Induction Ceremony
DESCRIPTION:
URL:https://spssaltonstall.salemk12.org/event/tri-m-honor-music-society-induction-ceremony/
LOCATION:Salem High School\, 77 Willson St\, Salem\, MA 01970\, USA
CATEGORIES:District
END:VEVENT
BEGIN:VEVENT
DTSTART;VALUE=DATE:20221124
DTEND;VALUE=DATE:20221126
DTSTAMP:20260422T185147
CREATED:20220825T221425Z
LAST-MODIFIED:20221125T231413Z
UID:2301-1669248000-1669420799@spssaltonstall.salemk12.org
SUMMARY:No School - Thanksgiving
DESCRIPTION:
URL:https://spssaltonstall.salemk12.org/event/no-school-thanksgiving/
CATEGORIES:District
END:VEVENT
BEGIN:VEVENT
DTSTART;VALUE=DATE:20221124
DTEND;VALUE=DATE:20221125
DTSTAMP:20260422T185147
CREATED:20220825T221425Z
LAST-MODIFIED:20221124T231415Z
UID:2302-1669248000-1669334399@spssaltonstall.salemk12.org
SUMMARY:Thanksgiving Day
DESCRIPTION:
URL:https://spssaltonstall.salemk12.org/event/thanksgiving-day/
CATEGORIES:District
END:VEVENT
BEGIN:VEVENT
DTSTART;VALUE=DATE:20221123
DTEND;VALUE=DATE:20221124
DTSTAMP:20260422T185147
CREATED:20220825T221413Z
LAST-MODIFIED:20221123T231412Z
UID:2300-1669161600-1669247999@spssaltonstall.salemk12.org
SUMMARY:Pre-Thanksgiving Early Release
DESCRIPTION:
URL:https://spssaltonstall.salemk12.org/event/pre-thanksgiving-early-release/
CATEGORIES:District
END:VEVENT
END:VCALENDAR