BEGIN:VCALENDAR
VERSION:2.0
PRODID:-//Saltonstall School - ECPv6.15.18//NONSGML v1.0//EN
CALSCALE:GREGORIAN
METHOD:PUBLISH
X-WR-CALNAME:Saltonstall School
X-ORIGINAL-URL:https://spssaltonstall.salemk12.org
X-WR-CALDESC:Events for Saltonstall School
REFRESH-INTERVAL;VALUE=DURATION:PT1H
X-Robots-Tag:noindex
X-PUBLISHED-TTL:PT1H
BEGIN:VTIMEZONE
TZID:America/New_York
BEGIN:DAYLIGHT
TZOFFSETFROM:-0500
TZOFFSETTO:-0400
TZNAME:EDT
DTSTART:20250309T070000
END:DAYLIGHT
BEGIN:STANDARD
TZOFFSETFROM:-0400
TZOFFSETTO:-0500
TZNAME:EST
DTSTART:20251102T060000
END:STANDARD
BEGIN:DAYLIGHT
TZOFFSETFROM:-0500
TZOFFSETTO:-0400
TZNAME:EDT
DTSTART:20260308T070000
END:DAYLIGHT
BEGIN:STANDARD
TZOFFSETFROM:-0400
TZOFFSETTO:-0500
TZNAME:EST
DTSTART:20261101T060000
END:STANDARD
BEGIN:DAYLIGHT
TZOFFSETFROM:-0500
TZOFFSETTO:-0400
TZNAME:EDT
DTSTART:20270314T070000
END:DAYLIGHT
BEGIN:STANDARD
TZOFFSETFROM:-0400
TZOFFSETTO:-0500
TZNAME:EST
DTSTART:20271107T060000
END:STANDARD
END:VTIMEZONE
BEGIN:VEVENT
DTSTART;VALUE=DATE:20260623
DTEND;VALUE=DATE:20260624
DTSTAMP:20260421T012028
CREATED:20260325T185136Z
LAST-MODIFIED:20260325T185136Z
UID:7544-1782172800-1782259199@spssaltonstall.salemk12.org
SUMMARY:Last Day of School
DESCRIPTION:
URL:https://spssaltonstall.salemk12.org/event/last-day-of-school-2/
CATEGORIES:Saltonstall School
END:VEVENT
BEGIN:VEVENT
DTSTART;VALUE=DATE:20260903
DTEND;VALUE=DATE:20260904
DTSTAMP:20260421T012028
CREATED:20260128T154003Z
LAST-MODIFIED:20260128T154003Z
UID:7401-1788393600-1788479999@spssaltonstall.salemk12.org
SUMMARY:First Day of School-Grades 1-12
DESCRIPTION:
URL:https://spssaltonstall.salemk12.org/event/first-day-of-school-grades-1-12/
END:VEVENT
BEGIN:VEVENT
DTSTART;VALUE=DATE:20260910
DTEND;VALUE=DATE:20260911
DTSTAMP:20260421T012028
CREATED:20260128T154116Z
LAST-MODIFIED:20260128T154116Z
UID:7404-1788998400-1789084799@spssaltonstall.salemk12.org
SUMMARY:First Day of Kindergarten\, Pre-K
DESCRIPTION:
URL:https://spssaltonstall.salemk12.org/event/first-day-of-kindergarten-pre-k/
END:VEVENT
END:VCALENDAR