BEGIN:VCALENDAR
VERSION:2.0
PRODID:-//Saltonstall School - ECPv6.15.18//NONSGML v1.0//EN
CALSCALE:GREGORIAN
METHOD:PUBLISH
X-ORIGINAL-URL:https://spssaltonstall.salemk12.org
X-WR-CALDESC:Events for Saltonstall School
REFRESH-INTERVAL;VALUE=DURATION:PT1H
X-Robots-Tag:noindex
X-PUBLISHED-TTL:PT1H
BEGIN:VTIMEZONE
TZID:America/New_York
BEGIN:DAYLIGHT
TZOFFSETFROM:-0500
TZOFFSETTO:-0400
TZNAME:EDT
DTSTART:20230312T070000
END:DAYLIGHT
BEGIN:STANDARD
TZOFFSETFROM:-0400
TZOFFSETTO:-0500
TZNAME:EST
DTSTART:20231105T060000
END:STANDARD
BEGIN:DAYLIGHT
TZOFFSETFROM:-0500
TZOFFSETTO:-0400
TZNAME:EDT
DTSTART:20240310T070000
END:DAYLIGHT
BEGIN:STANDARD
TZOFFSETFROM:-0400
TZOFFSETTO:-0500
TZNAME:EST
DTSTART:20241103T060000
END:STANDARD
BEGIN:DAYLIGHT
TZOFFSETFROM:-0500
TZOFFSETTO:-0400
TZNAME:EDT
DTSTART:20250309T070000
END:DAYLIGHT
BEGIN:STANDARD
TZOFFSETFROM:-0400
TZOFFSETTO:-0500
TZNAME:EST
DTSTART:20251102T060000
END:STANDARD
END:VTIMEZONE
BEGIN:VEVENT
DTSTART;TZID=America/New_York:20240614T173000
DTEND;TZID=America/New_York:20240614T200000
DTSTAMP:20260420T230958
CREATED:20240516T171348Z
LAST-MODIFIED:20240614T185813Z
UID:4864-1718386200-1718395200@spssaltonstall.salemk12.org
SUMMARY:8th Moving on Ceremony
DESCRIPTION:
URL:https://spssaltonstall.salemk12.org/event/8th-moving-on-ceremony/
CATEGORIES:Saltonstall School
END:VEVENT
BEGIN:VEVENT
DTSTART;TZID=America/New_York:20240614T080000
DTEND;TZID=America/New_York:20240614T150000
DTSTAMP:20260420T230958
CREATED:20240516T171348Z
LAST-MODIFIED:20240614T185813Z
UID:4863-1718352000-1718377200@spssaltonstall.salemk12.org
SUMMARY:K Last day and Moving On Ceremony
DESCRIPTION:
URL:https://spssaltonstall.salemk12.org/event/k-last-day-and-moving-on-ceremony/
CATEGORIES:Saltonstall School
END:VEVENT
BEGIN:VEVENT
DTSTART;TZID=America/New_York:20240612T173000
DTEND;TZID=America/New_York:20240612T193000
DTSTAMP:20260420T230958
CREATED:20240516T171348Z
LAST-MODIFIED:20240611T184413Z
UID:4862-1718213400-1718220600@spssaltonstall.salemk12.org
SUMMARY:SPS Multicultural Night @ Horace Mann
DESCRIPTION:
URL:https://spssaltonstall.salemk12.org/event/sps-multicultural-night-horace-mann/
CATEGORIES:Saltonstall School
END:VEVENT
BEGIN:VEVENT
DTSTART;VALUE=DATE:20240611
DTEND;VALUE=DATE:20240612
DTSTAMP:20260420T230958
CREATED:20240516T171348Z
LAST-MODIFIED:20240611T184413Z
UID:4861-1718064000-1718150399@spssaltonstall.salemk12.org
SUMMARY:Field Day
DESCRIPTION:
URL:https://spssaltonstall.salemk12.org/event/field-day/
CATEGORIES:Saltonstall School
END:VEVENT
BEGIN:VEVENT
DTSTART;TZID=America/New_York:20240610T190000
DTEND;TZID=America/New_York:20240610T210000
DTSTAMP:20260420T230958
CREATED:20240123T202923Z
LAST-MODIFIED:20240328T131326Z
UID:4438-1718046000-1718053200@spssaltonstall.salemk12.org
SUMMARY:Saltonstall School Final Concert
DESCRIPTION:Two performances: 1:30 p.m. and 7:00 p.m.
URL:https://spssaltonstall.salemk12.org/event/saltonstall-school-final-concert/
LOCATION:Saltonstall School\, 211 Lafayette St\, Salem\, MA 01970\, USA
CATEGORIES:Saltonstall School
END:VEVENT
BEGIN:VEVENT
DTSTART;TZID=America/New_York:20240610T190000
DTEND;TZID=America/New_York:20240610T200000
DTSTAMP:20260420T230958
CREATED:20240328T161328Z
LAST-MODIFIED:20240610T182936Z
UID:4679-1718046000-1718049600@spssaltonstall.salemk12.org
SUMMARY:Saltonstall's Final Evening Concert
DESCRIPTION:
URL:https://spssaltonstall.salemk12.org/event/saltonstalls-final-evening-concert/
CATEGORIES:Saltonstall School
END:VEVENT
BEGIN:VEVENT
DTSTART;TZID=America/New_York:20240610T133000
DTEND;TZID=America/New_York:20240610T143000
DTSTAMP:20260420T230958
CREATED:20240328T161328Z
LAST-MODIFIED:20240610T182935Z
UID:4678-1718026200-1718029800@spssaltonstall.salemk12.org
SUMMARY:Saltonstall's Final Day Concert
DESCRIPTION:
URL:https://spssaltonstall.salemk12.org/event/saltonstalls-final-day-concert/
CATEGORIES:Saltonstall School
END:VEVENT
BEGIN:VEVENT
DTSTART;TZID=America/New_York:20240610T133000
DTEND;TZID=America/New_York:20240610T143000
DTSTAMP:20260420T230958
CREATED:20240328T144301Z
LAST-MODIFIED:20240328T144301Z
UID:4675-1718026200-1718029800@spssaltonstall.salemk12.org
SUMMARY:Saltonstall School Final Concert
DESCRIPTION:Two performances: 1:30 p.m. and 7:00 p.m.
URL:https://spssaltonstall.salemk12.org/event/saltonstall-school-final-concert-2/
LOCATION:Saltonstall School\, 211 Lafayette St\, Salem\, MA 01970\, USA
CATEGORIES:Saltonstall School
END:VEVENT
BEGIN:VEVENT
DTSTART;TZID=America/New_York:20240606T153000
DTEND;TZID=America/New_York:20240606T183000
DTSTAMP:20260420T230958
CREATED:20240516T171336Z
LAST-MODIFIED:20240606T182815Z
UID:4860-1717687800-1717698600@spssaltonstall.salemk12.org
SUMMARY:Family Picnic @ Winter Island
DESCRIPTION:
URL:https://spssaltonstall.salemk12.org/event/family-picnic-winter-island/
CATEGORIES:Saltonstall School
END:VEVENT
BEGIN:VEVENT
DTSTART;TZID=America/New_York:20240605T183000
DTEND;TZID=America/New_York:20240605T200000
DTSTAMP:20260420T230958
CREATED:20240516T171336Z
LAST-MODIFIED:20240605T182814Z
UID:4859-1717612200-1717617600@spssaltonstall.salemk12.org
SUMMARY:School's Future Forums
DESCRIPTION:
URL:https://spssaltonstall.salemk12.org/event/schools-future-forums/
CATEGORIES:Saltonstall School
END:VEVENT
BEGIN:VEVENT
DTSTART;TZID=America/New_York:20240601T090000
DTEND;TZID=America/New_York:20240601T100000
DTSTAMP:20260420T230958
CREATED:20240516T171336Z
LAST-MODIFIED:20240531T175819Z
UID:4858-1717232400-1717236000@spssaltonstall.salemk12.org
SUMMARY:SEE ME at PEM
DESCRIPTION:
URL:https://spssaltonstall.salemk12.org/event/see-me-at-pem/
CATEGORIES:Saltonstall School
END:VEVENT
BEGIN:VEVENT
DTSTART;VALUE=DATE:20240528
DTEND;VALUE=DATE:20240529
DTSTAMP:20260420T230958
CREATED:20240516T171336Z
LAST-MODIFIED:20240528T174327Z
UID:4857-1716854400-1716940799@spssaltonstall.salemk12.org
SUMMARY:3/4 Almost Overnight Trip
DESCRIPTION:
URL:https://spssaltonstall.salemk12.org/event/3-4-almost-overnight-trip/
CATEGORIES:Saltonstall School
END:VEVENT
BEGIN:VEVENT
DTSTART;VALUE=DATE:20240527
DTEND;VALUE=DATE:20240528
DTSTAMP:20260420T230958
CREATED:20240516T171336Z
LAST-MODIFIED:20240527T174316Z
UID:4856-1716768000-1716854399@spssaltonstall.salemk12.org
SUMMARY:No School/Memorial Day
DESCRIPTION:
URL:https://spssaltonstall.salemk12.org/event/no-school-memorial-day-2/
CATEGORIES:Saltonstall School
END:VEVENT
BEGIN:VEVENT
DTSTART;VALUE=DATE:20240523
DTEND;VALUE=DATE:20240525
DTSTAMP:20260420T230958
CREATED:20240516T171336Z
LAST-MODIFIED:20240524T172825Z
UID:4855-1716422400-1716595199@spssaltonstall.salemk12.org
SUMMARY:8th Graders NYC
DESCRIPTION:
URL:https://spssaltonstall.salemk12.org/event/8th-graders-nyc/
CATEGORIES:Saltonstall School
END:VEVENT
BEGIN:VEVENT
DTSTART;TZID=America/New_York:20240522T114500
DTEND;TZID=America/New_York:20240522T120000
DTSTAMP:20260420T230958
CREATED:20240516T171335Z
LAST-MODIFIED:20240521T171413Z
UID:4854-1716378300-1716379200@spssaltonstall.salemk12.org
SUMMARY:Half Day/ Early Release
DESCRIPTION:
URL:https://spssaltonstall.salemk12.org/event/half-day-early-release/
CATEGORIES:Saltonstall School
END:VEVENT
BEGIN:VEVENT
DTSTART;TZID=America/New_York:20240501T180000
DTEND;TZID=America/New_York:20240501T203000
DTSTAMP:20260420T230958
CREATED:20230905T164411Z
LAST-MODIFIED:20240501T171412Z
UID:3863-1714586400-1714595400@spssaltonstall.salemk12.org
SUMMARY:Arts in the Evening and Ice Cream Social
DESCRIPTION:All City Chorus Concert at 6pm SHS auditorium\nAll City Band Concert at 6:45pm SHS fieldhouse\nAll City Orchestra Concert at 7:30pm at SHS auditorium
URL:https://spssaltonstall.salemk12.org/event/arts-in-the-evening-and-ice-cream-social/
CATEGORIES:Saltonstall School
END:VEVENT
BEGIN:VEVENT
DTSTART;VALUE=DATE:20240329
DTEND;VALUE=DATE:20240330
DTSTAMP:20260420T230958
CREATED:20240226T222825Z
LAST-MODIFIED:20240329T161411Z
UID:4581-1711670400-1711756799@spssaltonstall.salemk12.org
SUMMARY:NO SCHOOL
DESCRIPTION:
URL:https://spssaltonstall.salemk12.org/event/no-school-2/
CATEGORIES:Saltonstall School
END:VEVENT
BEGIN:VEVENT
DTSTART;TZID=America/New_York:20240328T170000
DTEND;TZID=America/New_York:20240328T190000
DTSTAMP:20260420T230958
CREATED:20240226T222825Z
LAST-MODIFIED:20240328T161328Z
UID:4580-1711645200-1711652400@spssaltonstall.salemk12.org
SUMMARY:CURRICULUM NIGHT / TALENT SHOW
DESCRIPTION:
URL:https://spssaltonstall.salemk12.org/event/curriculum-night-talent-show/
CATEGORIES:Saltonstall School
END:VEVENT
BEGIN:VEVENT
DTSTART;TZID=America/New_York:20240320T170000
DTEND;TZID=America/New_York:20240320T190000
DTSTAMP:20260420T230958
CREATED:20240226T222814Z
LAST-MODIFIED:20240319T234336Z
UID:4579-1710954000-1710961200@spssaltonstall.salemk12.org
SUMMARY:Family Conferences and Portfolios
DESCRIPTION:
URL:https://spssaltonstall.salemk12.org/event/family-conferences-and-portfolios-2/
CATEGORIES:Saltonstall School
END:VEVENT
BEGIN:VEVENT
DTSTART;TZID=America/New_York:20240320T123000
DTEND;TZID=America/New_York:20240320T150000
DTSTAMP:20260420T230958
CREATED:20240226T222814Z
LAST-MODIFIED:20240319T234336Z
UID:4578-1710937800-1710946800@spssaltonstall.salemk12.org
SUMMARY:Family Conferences and Portfolios
DESCRIPTION:
URL:https://spssaltonstall.salemk12.org/event/family-conferences-and-portfolios/
CATEGORIES:Saltonstall School
END:VEVENT
BEGIN:VEVENT
DTSTART;TZID=America/New_York:20240320T090000
DTEND;TZID=America/New_York:20240320T103000
DTSTAMP:20260420T230958
CREATED:20240226T222814Z
LAST-MODIFIED:20240319T234336Z
UID:4577-1710925200-1710930600@spssaltonstall.salemk12.org
SUMMARY:Latino Family Group Morning Meeting
DESCRIPTION:
URL:https://spssaltonstall.salemk12.org/event/latino-family-group-morning-meeting/
CATEGORIES:Saltonstall School
END:VEVENT
BEGIN:VEVENT
DTSTART;VALUE=DATE:20240315
DTEND;VALUE=DATE:20240316
DTSTAMP:20260420T230958
CREATED:20240226T222814Z
LAST-MODIFIED:20240315T234412Z
UID:4576-1710460800-1710547199@spssaltonstall.salemk12.org
SUMMARY:Report Card Posted
DESCRIPTION:
URL:https://spssaltonstall.salemk12.org/event/report-card-posted/
CATEGORIES:Saltonstall School
END:VEVENT
BEGIN:VEVENT
DTSTART;TZID=America/New_York:20240314T180000
DTEND;TZID=America/New_York:20240314T193000
DTSTAMP:20260420T230958
CREATED:20240226T222814Z
LAST-MODIFIED:20240314T232812Z
UID:4575-1710439200-1710444600@spssaltonstall.salemk12.org
SUMMARY:Multi-Language Family Night
DESCRIPTION:Meeting ID: 389 870 5944\nPasscode: YqAJ75
URL:https://spssaltonstall.salemk12.org/event/multi-language-family-night/
LOCATION:Saltonstall School\, 211 Lafayette St\, Salem\, MA 01970\, USA
CATEGORIES:Saltonstall School
END:VEVENT
BEGIN:VEVENT
DTSTART;TZID=America/New_York:20240313T180000
DTEND;TZID=America/New_York:20240313T193000
DTSTAMP:20260420T230958
CREATED:20240226T222814Z
LAST-MODIFIED:20240313T231413Z
UID:4574-1710352800-1710358200@spssaltonstall.salemk12.org
SUMMARY:Latino Family Group Night Meeting
DESCRIPTION:
URL:https://spssaltonstall.salemk12.org/event/latino-family-group-night-meeting/
CATEGORIES:Saltonstall School
END:VEVENT
BEGIN:VEVENT
DTSTART;TZID=America/New_York:20240312T193000
DTEND;TZID=America/New_York:20240312T203000
DTSTAMP:20260420T230958
CREATED:20240226T222814Z
LAST-MODIFIED:20240312T231413Z
UID:4573-1710271800-1710275400@spssaltonstall.salemk12.org
SUMMARY:PTO Meeting
DESCRIPTION:On Zoom. for Link\, Please Email us at SaltonstallPTO@gmail.com
URL:https://spssaltonstall.salemk12.org/event/pto-meeting/
CATEGORIES:Saltonstall School
END:VEVENT
BEGIN:VEVENT
DTSTART;VALUE=DATE:20240306
DTEND;VALUE=DATE:20240307
DTSTAMP:20260420T230958
CREATED:20240226T222814Z
LAST-MODIFIED:20240306T225814Z
UID:4572-1709683200-1709769599@spssaltonstall.salemk12.org
SUMMARY:NO SCHOOL for Students
DESCRIPTION:
URL:https://spssaltonstall.salemk12.org/event/no-school-for-students/
CATEGORIES:Saltonstall School
END:VEVENT
BEGIN:VEVENT
DTSTART;TZID=America/New_York:20240304T193000
DTEND;TZID=America/New_York:20240304T203000
DTSTAMP:20260420T230958
CREATED:20240226T222814Z
LAST-MODIFIED:20240304T224414Z
UID:4571-1709580600-1709584200@spssaltonstall.salemk12.org
SUMMARY:Family Meeting
DESCRIPTION:Join with Google Meet: https://meet.google.com/rrs-xyfn-eur\nOr dial: (US) +1 470-326-0712 PIN: 943142227#\nMore phone numbers: https://tel.meet/rrs-xyfn-eur?pin=2509211171522&hs=7\nLearn more about Meet at: https://support.google.com/a/users/answer/9282720
URL:https://spssaltonstall.salemk12.org/event/family-meeting/
CATEGORIES:Saltonstall School
END:VEVENT
BEGIN:VEVENT
DTSTART;VALUE=DATE:20240301
DTEND;VALUE=DATE:20240302
DTSTAMP:20260420T230958
CREATED:20240226T222814Z
LAST-MODIFIED:20240301T224315Z
UID:4570-1709251200-1709337599@spssaltonstall.salemk12.org
SUMMARY:End of Trimestre
DESCRIPTION:
URL:https://spssaltonstall.salemk12.org/event/end-of-trimestre/
CATEGORIES:Saltonstall School
END:VEVENT
BEGIN:VEVENT
DTSTART;TZID=America/New_York:20240213T190000
DTEND;TZID=America/New_York:20240213T200000
DTSTAMP:20260420T230958
CREATED:20230905T164411Z
LAST-MODIFIED:20240213T221414Z
UID:3862-1707850800-1707854400@spssaltonstall.salemk12.org
SUMMARY:All City Beginner Instrumental Music Concert (SHS Auditorium)
DESCRIPTION:Snow Date: Thurs.\, Feb 15th
URL:https://spssaltonstall.salemk12.org/event/all-city-beginner-instrumental-music-concert-shs-auditorium/
CATEGORIES:Saltonstall School
END:VEVENT
BEGIN:VEVENT
DTSTART;TZID=America/New_York:20240209T180000
DTEND;TZID=America/New_York:20240209T193000
DTSTAMP:20260420T230958
CREATED:20240129T212816Z
LAST-MODIFIED:20240209T220023Z
UID:4455-1707501600-1707507000@spssaltonstall.salemk12.org
SUMMARY:K-4 Valentine's Glow Dance
DESCRIPTION:In the School Cafeteria. Children Must be accompanied by guardian.
URL:https://spssaltonstall.salemk12.org/event/k-4-valentines-glow-dance/
CATEGORIES:Saltonstall School
END:VEVENT
END:VCALENDAR