BEGIN:VCALENDAR
VERSION:2.0
PRODID:-//Saltonstall School - ECPv6.15.18//NONSGML v1.0//EN
CALSCALE:GREGORIAN
METHOD:PUBLISH
X-WR-CALNAME:Saltonstall School
X-ORIGINAL-URL:https://spssaltonstall.salemk12.org
X-WR-CALDESC:Events for Saltonstall School
REFRESH-INTERVAL;VALUE=DURATION:PT1H
X-Robots-Tag:noindex
X-PUBLISHED-TTL:PT1H
BEGIN:VTIMEZONE
TZID:America/New_York
BEGIN:DAYLIGHT
TZOFFSETFROM:-0500
TZOFFSETTO:-0400
TZNAME:EDT
DTSTART:20200308T070000
END:DAYLIGHT
BEGIN:STANDARD
TZOFFSETFROM:-0400
TZOFFSETTO:-0500
TZNAME:EST
DTSTART:20201101T060000
END:STANDARD
BEGIN:DAYLIGHT
TZOFFSETFROM:-0500
TZOFFSETTO:-0400
TZNAME:EDT
DTSTART:20210314T070000
END:DAYLIGHT
BEGIN:STANDARD
TZOFFSETFROM:-0400
TZOFFSETTO:-0500
TZNAME:EST
DTSTART:20211107T060000
END:STANDARD
BEGIN:DAYLIGHT
TZOFFSETFROM:-0500
TZOFFSETTO:-0400
TZNAME:EDT
DTSTART:20220313T070000
END:DAYLIGHT
BEGIN:STANDARD
TZOFFSETFROM:-0400
TZOFFSETTO:-0500
TZNAME:EST
DTSTART:20221106T060000
END:STANDARD
BEGIN:DAYLIGHT
TZOFFSETFROM:-0500
TZOFFSETTO:-0400
TZNAME:EDT
DTSTART:20230312T070000
END:DAYLIGHT
BEGIN:STANDARD
TZOFFSETFROM:-0400
TZOFFSETTO:-0500
TZNAME:EST
DTSTART:20231105T060000
END:STANDARD
END:VTIMEZONE
BEGIN:VEVENT
DTSTART;VALUE=DATE:20220610
DTEND;VALUE=DATE:20220611
DTSTAMP:20260421T075453
CREATED:20211206T191912Z
LAST-MODIFIED:20220610T164412Z
UID:1329-1654819200-1654905599@spssaltonstall.salemk12.org
SUMMARY:Last Day of School (Kindergarten)
DESCRIPTION:
URL:https://spssaltonstall.salemk12.org/event/last-day-of-school-kindergarten/
CATEGORIES:Saltonstall School
END:VEVENT
BEGIN:VEVENT
DTSTART;VALUE=DATE:20220530
DTEND;VALUE=DATE:20220531
DTSTAMP:20260421T075453
CREATED:20211206T191912Z
LAST-MODIFIED:20220529T235815Z
UID:1328-1653868800-1653955199@spssaltonstall.salemk12.org
SUMMARY:No school Memorial Day
DESCRIPTION:
URL:https://spssaltonstall.salemk12.org/event/no-school-memorial-day/
CATEGORIES:Saltonstall School
END:VEVENT
BEGIN:VEVENT
DTSTART;TZID=America/New_York:20220525T080000
DTEND;TZID=America/New_York:20220525T113000
DTSTAMP:20260421T075453
CREATED:20211206T191900Z
LAST-MODIFIED:20220523T234412Z
UID:1327-1653465600-1653478200@spssaltonstall.salemk12.org
SUMMARY:Half day 11:30 dismissal
DESCRIPTION:
URL:https://spssaltonstall.salemk12.org/event/half-day-1130-dismissal-4/
CATEGORIES:Saltonstall School
END:VEVENT
BEGIN:VEVENT
DTSTART;VALUE=DATE:20220418
DTEND;VALUE=DATE:20220423
DTSTAMP:20260421T075453
CREATED:20211206T191900Z
LAST-MODIFIED:20220422T224413Z
UID:1326-1650240000-1650671999@spssaltonstall.salemk12.org
SUMMARY:Spring Break no school
DESCRIPTION:
URL:https://spssaltonstall.salemk12.org/event/spring-break-no-school/
CATEGORIES:Saltonstall School
END:VEVENT
BEGIN:VEVENT
DTSTART;VALUE=DATE:20220415
DTEND;VALUE=DATE:20220416
DTSTAMP:20260421T075453
CREATED:20211206T191900Z
LAST-MODIFIED:20220415T222850Z
UID:1325-1649980800-1650067199@spssaltonstall.salemk12.org
SUMMARY:No school
DESCRIPTION:
URL:https://spssaltonstall.salemk12.org/event/no-school/
CATEGORIES:Saltonstall School
END:VEVENT
BEGIN:VEVENT
DTSTART;TZID=America/New_York:20220323T080000
DTEND;TZID=America/New_York:20220323T113000
DTSTAMP:20260421T075453
CREATED:20211206T191900Z
LAST-MODIFIED:20220322T211358Z
UID:1324-1648022400-1648035000@spssaltonstall.salemk12.org
SUMMARY:Half day 11:30 dismissal
DESCRIPTION:
URL:https://spssaltonstall.salemk12.org/event/half-day-1130-dismissal-3/
CATEGORIES:Saltonstall School
END:VEVENT
BEGIN:VEVENT
DTSTART;TZID=America/New_York:20220309T080000
DTEND;TZID=America/New_York:20220309T113000
DTSTAMP:20260421T075453
CREATED:20211206T191900Z
LAST-MODIFIED:20220308T201415Z
UID:1323-1646812800-1646825400@spssaltonstall.salemk12.org
SUMMARY:Half day 11:30 dismissal
DESCRIPTION:
URL:https://spssaltonstall.salemk12.org/event/half-day-1130-dismissal-2/
CATEGORIES:Saltonstall School
END:VEVENT
BEGIN:VEVENT
DTSTART;TZID=America/New_York:20220126T080000
DTEND;TZID=America/New_York:20220126T113000
DTSTAMP:20260421T075453
CREATED:20211206T191900Z
LAST-MODIFIED:20220125T183015Z
UID:1321-1643184000-1643196600@spssaltonstall.salemk12.org
SUMMARY:Half Day 11:30 Dismissal
DESCRIPTION:
URL:https://spssaltonstall.salemk12.org/event/half-day-1130-dismissal/
CATEGORIES:Saltonstall School
END:VEVENT
BEGIN:VEVENT
DTSTART;VALUE=DATE:20220117
DTEND;VALUE=DATE:20220118
DTSTAMP:20260421T075453
CREATED:20211206T191900Z
LAST-MODIFIED:20211216T180014Z
UID:1320-1642377600-1642463999@spssaltonstall.salemk12.org
SUMMARY:No School Martin Luther King Day
DESCRIPTION:
URL:https://spssaltonstall.salemk12.org/event/no-school-martin-luther-king-day/
CATEGORIES:Saltonstall School
END:VEVENT
BEGIN:VEVENT
DTSTART;VALUE=DATE:20211224
DTEND;VALUE=DATE:20220102
DTSTAMP:20260421T075453
CREATED:20211206T191859Z
LAST-MODIFIED:20211216T180014Z
UID:1319-1640304000-1641081599@spssaltonstall.salemk12.org
SUMMARY:Winter Break
DESCRIPTION:
URL:https://spssaltonstall.salemk12.org/event/winter-break/
CATEGORIES:Saltonstall School
END:VEVENT
END:VCALENDAR