BEGIN:VCALENDAR
VERSION:2.0
PRODID:-//Saltonstall School - ECPv6.15.18//NONSGML v1.0//EN
CALSCALE:GREGORIAN
METHOD:PUBLISH
X-ORIGINAL-URL:https://spssaltonstall.salemk12.org
X-WR-CALDESC:Events for Saltonstall School
REFRESH-INTERVAL;VALUE=DURATION:PT1H
X-Robots-Tag:noindex
X-PUBLISHED-TTL:PT1H
BEGIN:VTIMEZONE
TZID:America/New_York
BEGIN:DAYLIGHT
TZOFFSETFROM:-0500
TZOFFSETTO:-0400
TZNAME:EDT
DTSTART:20250309T070000
END:DAYLIGHT
BEGIN:STANDARD
TZOFFSETFROM:-0400
TZOFFSETTO:-0500
TZNAME:EST
DTSTART:20251102T060000
END:STANDARD
BEGIN:DAYLIGHT
TZOFFSETFROM:-0500
TZOFFSETTO:-0400
TZNAME:EDT
DTSTART:20260308T070000
END:DAYLIGHT
BEGIN:STANDARD
TZOFFSETFROM:-0400
TZOFFSETTO:-0500
TZNAME:EST
DTSTART:20261101T060000
END:STANDARD
BEGIN:DAYLIGHT
TZOFFSETFROM:-0500
TZOFFSETTO:-0400
TZNAME:EDT
DTSTART:20270314T070000
END:DAYLIGHT
BEGIN:STANDARD
TZOFFSETFROM:-0400
TZOFFSETTO:-0500
TZNAME:EST
DTSTART:20271107T060000
END:STANDARD
END:VTIMEZONE
BEGIN:VEVENT
DTSTART;TZID=America/New_York:20260205T180000
DTEND;TZID=America/New_York:20260205T193000
DTSTAMP:20260420T212045
CREATED:20260202T143313Z
LAST-MODIFIED:20260303T145201Z
UID:7418-1770314400-1770319800@spssaltonstall.salemk12.org
SUMMARY:Carlton Family Open House @ Salts
DESCRIPTION:Bethann Jellison and Lauren Weaver will be hosting an Open House on Thursday\, February 5th from 6:00 – 7:30 pm. \nWe will offer tours for families and conclude with a question-and-answer period.
URL:https://spssaltonstall.salemk12.org/event/carlton-family-open-house-salts/
LOCATION:Saltonstall School\, 211 Lafayette St\, Salem\, MA 01970\, USA
CATEGORIES:Saltonstall School
END:VEVENT
END:VCALENDAR