BEGIN:VCALENDAR
VERSION:2.0
PRODID:-//Saltonstall School - ECPv6.15.18//NONSGML v1.0//EN
CALSCALE:GREGORIAN
METHOD:PUBLISH
X-ORIGINAL-URL:https://spssaltonstall.salemk12.org
X-WR-CALDESC:Events for Saltonstall School
REFRESH-INTERVAL;VALUE=DURATION:PT1H
X-Robots-Tag:noindex
X-PUBLISHED-TTL:PT1H
BEGIN:VTIMEZONE
TZID:America/New_York
BEGIN:DAYLIGHT
TZOFFSETFROM:-0500
TZOFFSETTO:-0400
TZNAME:EDT
DTSTART:20240310T070000
END:DAYLIGHT
BEGIN:STANDARD
TZOFFSETFROM:-0400
TZOFFSETTO:-0500
TZNAME:EST
DTSTART:20241103T060000
END:STANDARD
BEGIN:DAYLIGHT
TZOFFSETFROM:-0500
TZOFFSETTO:-0400
TZNAME:EDT
DTSTART:20250309T070000
END:DAYLIGHT
BEGIN:STANDARD
TZOFFSETFROM:-0400
TZOFFSETTO:-0500
TZNAME:EST
DTSTART:20251102T060000
END:STANDARD
BEGIN:DAYLIGHT
TZOFFSETFROM:-0500
TZOFFSETTO:-0400
TZNAME:EDT
DTSTART:20260308T070000
END:DAYLIGHT
BEGIN:STANDARD
TZOFFSETFROM:-0400
TZOFFSETTO:-0500
TZNAME:EST
DTSTART:20261101T060000
END:STANDARD
END:VTIMEZONE
BEGIN:VEVENT
DTSTART;TZID=America/New_York:20250521T082000
DTEND;TZID=America/New_York:20250521T114500
DTSTAMP:20260421T111630
CREATED:20241102T005839Z
LAST-MODIFIED:20250519T234418Z
UID:5494-1747815600-1747827900@spssaltonstall.salemk12.org
SUMMARY:Half Day- Release at 11:45AM
DESCRIPTION:
URL:https://spssaltonstall.salemk12.org/event/half-day-release-at-1145am/
CATEGORIES:Saltonstall School
END:VEVENT
BEGIN:VEVENT
DTSTART;TZID=America/New_York:20250522T173000
DTEND;TZID=America/New_York:20250522T193000
DTSTAMP:20260421T111630
CREATED:20250424T130807Z
LAST-MODIFIED:20250424T130807Z
UID:6682-1747935000-1747942200@spssaltonstall.salemk12.org
SUMMARY:Student Voice Summit/See Me Student Art Installation
DESCRIPTION:
URL:https://spssaltonstall.salemk12.org/event/student-voice-summit-see-me-student-art-installation/
LOCATION:Peabody Essex Museum\, 161 Essex Street\, Salem\, MA\, 01970\, United States
CATEGORIES:Saltonstall School
END:VEVENT
BEGIN:VEVENT
DTSTART;VALUE=DATE:20250526
DTEND;VALUE=DATE:20250527
DTSTAMP:20260421T111630
CREATED:20241102T005839Z
LAST-MODIFIED:20250526T161420Z
UID:5495-1748217600-1748303999@spssaltonstall.salemk12.org
SUMMARY:No School- Memorial Day
DESCRIPTION:
URL:https://spssaltonstall.salemk12.org/event/no-school-memorial-day-3/
CATEGORIES:Saltonstall School
END:VEVENT
END:VCALENDAR