BEGIN:VCALENDAR
VERSION:2.0
PRODID:-//Saltonstall School - ECPv6.15.18//NONSGML v1.0//EN
CALSCALE:GREGORIAN
METHOD:PUBLISH
X-WR-CALNAME:Saltonstall School
X-ORIGINAL-URL:https://spssaltonstall.salemk12.org
X-WR-CALDESC:Events for Saltonstall School
REFRESH-INTERVAL;VALUE=DURATION:PT1H
X-Robots-Tag:noindex
X-PUBLISHED-TTL:PT1H
BEGIN:VTIMEZONE
TZID:America/New_York
BEGIN:DAYLIGHT
TZOFFSETFROM:-0500
TZOFFSETTO:-0400
TZNAME:EDT
DTSTART:20230312T070000
END:DAYLIGHT
BEGIN:STANDARD
TZOFFSETFROM:-0400
TZOFFSETTO:-0500
TZNAME:EST
DTSTART:20231105T060000
END:STANDARD
BEGIN:DAYLIGHT
TZOFFSETFROM:-0500
TZOFFSETTO:-0400
TZNAME:EDT
DTSTART:20240310T070000
END:DAYLIGHT
BEGIN:STANDARD
TZOFFSETFROM:-0400
TZOFFSETTO:-0500
TZNAME:EST
DTSTART:20241103T060000
END:STANDARD
BEGIN:DAYLIGHT
TZOFFSETFROM:-0500
TZOFFSETTO:-0400
TZNAME:EDT
DTSTART:20250309T070000
END:DAYLIGHT
BEGIN:STANDARD
TZOFFSETFROM:-0400
TZOFFSETTO:-0500
TZNAME:EST
DTSTART:20251102T060000
END:STANDARD
END:VTIMEZONE
BEGIN:VEVENT
DTSTART;VALUE=DATE:20241105
DTEND;VALUE=DATE:20241106
DTSTAMP:20260421T210601
CREATED:20241102T005821Z
LAST-MODIFIED:20241102T031317Z
UID:5476-1730764800-1730851199@spssaltonstall.salemk12.org
SUMMARY:No School
DESCRIPTION:
URL:https://spssaltonstall.salemk12.org/event/no-school-3/
CATEGORIES:Saltonstall School
END:VEVENT
BEGIN:VEVENT
DTSTART;VALUE=DATE:20241111
DTEND;VALUE=DATE:20241112
DTSTAMP:20260421T210601
CREATED:20241102T005821Z
LAST-MODIFIED:20241102T031318Z
UID:5477-1731283200-1731369599@spssaltonstall.salemk12.org
SUMMARY:No School- Veterans Day
DESCRIPTION:
URL:https://spssaltonstall.salemk12.org/event/no-school-veterans-day/
CATEGORIES:Saltonstall School
END:VEVENT
BEGIN:VEVENT
DTSTART;TZID=America/New_York:20241112T193000
DTEND;TZID=America/New_York:20241112T203000
DTSTAMP:20260421T210601
CREATED:20241102T005821Z
LAST-MODIFIED:20241102T031318Z
UID:5478-1731439800-1731443400@spssaltonstall.salemk12.org
SUMMARY:PTO- Zoom Meeting
DESCRIPTION:
URL:https://spssaltonstall.salemk12.org/event/pto-zoom-meeting/
CATEGORIES:Saltonstall School
END:VEVENT
BEGIN:VEVENT
DTSTART;TZID=America/New_York:20241114T082000
DTEND;TZID=America/New_York:20241114T152000
DTSTAMP:20260421T210601
CREATED:20241102T005821Z
LAST-MODIFIED:20241102T031318Z
UID:5479-1731572400-1731597600@spssaltonstall.salemk12.org
SUMMARY:Polished Dental
DESCRIPTION:
URL:https://spssaltonstall.salemk12.org/event/polished-dental/
CATEGORIES:Saltonstall School
END:VEVENT
BEGIN:VEVENT
DTSTART;TZID=America/New_York:20241118T183000
DTEND;TZID=America/New_York:20241118T203000
DTSTAMP:20260421T210601
CREATED:20241102T005821Z
LAST-MODIFIED:20241118T180029Z
UID:5480-1731954600-1731961800@spssaltonstall.salemk12.org
SUMMARY:ML Family Night
DESCRIPTION:
URL:https://spssaltonstall.salemk12.org/event/ml-family-night/
CATEGORIES:Saltonstall School
END:VEVENT
BEGIN:VEVENT
DTSTART;TZID=America/New_York:20241121T170000
DTEND;TZID=America/New_York:20241121T190000
DTSTAMP:20260421T210601
CREATED:20241118T164401Z
LAST-MODIFIED:20241121T175819Z
UID:6205-1732208400-1732215600@spssaltonstall.salemk12.org
SUMMARY:District Attendance Phone Banking
DESCRIPTION:
URL:https://spssaltonstall.salemk12.org/event/district-attendance-phone-banking/
CATEGORIES:Saltonstall School
END:VEVENT
BEGIN:VEVENT
DTSTART;TZID=America/New_York:20241126T170000
DTEND;TZID=America/New_York:20241126T190000
DTSTAMP:20260421T210601
CREATED:20241118T164401Z
LAST-MODIFIED:20241126T175817Z
UID:6207-1732640400-1732647600@spssaltonstall.salemk12.org
SUMMARY:Parents Cafe
DESCRIPTION:Join the entire Salem Public Schools team of Family Engagement Facilitators to review your student’s report card together!
URL:https://spssaltonstall.salemk12.org/event/parents-cafe/
LOCATION:Salem Community Life Center\, 401 Bridge St\, Salem\, MA\, United States
CATEGORIES:Saltonstall School
GEO:42.519346;-70.908861
X-APPLE-STRUCTURED-LOCATION;VALUE=URI;X-ADDRESS=Salem Community Life Center 401 Bridge St Salem MA United States;X-APPLE-RADIUS=500;X-TITLE=401 Bridge St:geo:-70.908861,42.519346
END:VEVENT
BEGIN:VEVENT
DTSTART;VALUE=DATE:20241127
DTEND;VALUE=DATE:20241128
DTSTAMP:20260421T210601
CREATED:20241102T005822Z
LAST-MODIFIED:20241127T175927Z
UID:5482-1732665600-1732751999@spssaltonstall.salemk12.org
SUMMARY:Report Cards Posted
DESCRIPTION:
URL:https://spssaltonstall.salemk12.org/event/report-cards-posted/
CATEGORIES:Saltonstall School
END:VEVENT
BEGIN:VEVENT
DTSTART;TZID=America/New_York:20241127T082000
DTEND;TZID=America/New_York:20241127T114500
DTSTAMP:20260421T210601
CREATED:20241102T005821Z
LAST-MODIFIED:20241126T175817Z
UID:5481-1732695600-1732707900@spssaltonstall.salemk12.org
SUMMARY:Stew Day-Half Day
DESCRIPTION:
URL:https://spssaltonstall.salemk12.org/event/stew-day-half-day/
CATEGORIES:Saltonstall School
END:VEVENT
BEGIN:VEVENT
DTSTART;VALUE=DATE:20241128
DTEND;VALUE=DATE:20241130
DTSTAMP:20260421T210601
CREATED:20241102T005822Z
LAST-MODIFIED:20241129T175819Z
UID:5483-1732752000-1732924799@spssaltonstall.salemk12.org
SUMMARY:No School
DESCRIPTION:
URL:https://spssaltonstall.salemk12.org/event/no-school-4/
CATEGORIES:Saltonstall School
END:VEVENT
END:VCALENDAR