BEGIN:VCALENDAR
VERSION:2.0
PRODID:-//Saltonstall School - ECPv6.15.18//NONSGML v1.0//EN
CALSCALE:GREGORIAN
METHOD:PUBLISH
X-WR-CALNAME:Saltonstall School
X-ORIGINAL-URL:https://spssaltonstall.salemk12.org
X-WR-CALDESC:Events for Saltonstall School
REFRESH-INTERVAL;VALUE=DURATION:PT1H
X-Robots-Tag:noindex
X-PUBLISHED-TTL:PT1H
BEGIN:VTIMEZONE
TZID:America/New_York
BEGIN:DAYLIGHT
TZOFFSETFROM:-0500
TZOFFSETTO:-0400
TZNAME:EDT
DTSTART:20220313T070000
END:DAYLIGHT
BEGIN:STANDARD
TZOFFSETFROM:-0400
TZOFFSETTO:-0500
TZNAME:EST
DTSTART:20221106T060000
END:STANDARD
BEGIN:DAYLIGHT
TZOFFSETFROM:-0500
TZOFFSETTO:-0400
TZNAME:EDT
DTSTART:20230312T070000
END:DAYLIGHT
BEGIN:STANDARD
TZOFFSETFROM:-0400
TZOFFSETTO:-0500
TZNAME:EST
DTSTART:20231105T060000
END:STANDARD
BEGIN:DAYLIGHT
TZOFFSETFROM:-0500
TZOFFSETTO:-0400
TZNAME:EDT
DTSTART:20240310T070000
END:DAYLIGHT
BEGIN:STANDARD
TZOFFSETFROM:-0400
TZOFFSETTO:-0500
TZNAME:EST
DTSTART:20241103T060000
END:STANDARD
END:VTIMEZONE
BEGIN:VEVENT
DTSTART;TZID=America/New_York:20230905T070000
DTEND;TZID=America/New_York:20230905T080000
DTSTAMP:20260423T002110
CREATED:20230615T231410Z
LAST-MODIFIED:20230904T164410Z
UID:3592-1693897200-1693900800@spssaltonstall.salemk12.org
SUMMARY:PreK- K start
DESCRIPTION:
URL:https://spssaltonstall.salemk12.org/event/prek-k-start/
CATEGORIES:Saltonstall School
END:VEVENT
END:VCALENDAR